BEGIN:VCALENDAR
PRODID:-//AT Content Types//AT Event//EN
VERSION:2.0
METHOD:PUBLISH
BEGIN:VEVENT
DTSTAMP:20260424T224618Z
CREATED:20201113T141114Z
UID:ATEvent-88007c4058904d21a3eb338cb6f27a7d
LAST-MODIFIED:20240829T075148Z
SUMMARY:Consejo Regional de la Region "San Miguel Garicoits"
DTSTART:20240923T070000Z
DTEND:20240928T140000Z
LOCATION:Roma - Casa General
CLASS:PUBLIC
END:VEVENT
END:VCALENDAR
