BEGIN:VCALENDAR
PRODID:-//AT Content Types//AT Event//EN
VERSION:1.0
BEGIN:VEVENT
DTSTART:20201113T140000Z
DTEND:20201113T180000Z
DCREATED:20201113T140639Z
UID:ATEvent-44bdfc5dd05f4ab4a99a0536ef7b8afb
SEQUENCE:0
LAST-MODIFIED:20201113T140946Z
SUMMARY:Consejo Regional
LOCATION:En videoconferencia
PRIORITY:3
TRANSP:0
END:VEVENT
END:VCALENDAR
