BEGIN:VCALENDAR
PRODID:-//AT Content Types//AT Event//EN
VERSION:2.0
METHOD:PUBLISH
BEGIN:VEVENT
DTSTAMP:20260424T224619Z
CREATED:20160505T095238Z
UID:ATEvent-50cd9678aeb642caa4b14481c1445a53
LAST-MODIFIED:20220214T131442Z
SUMMARY:Consejo General
DTSTART:20220421T073000Z
DTEND:20220421T150000Z
LOCATION:Roma - Casa Generalicia
CLASS:PUBLIC
END:VEVENT
END:VCALENDAR
