BEGIN:VCALENDAR
PRODID:-//AT Content Types//AT Event//EN
VERSION:1.0
BEGIN:VEVENT
DTSTART:20191216T080000Z
DTEND:20191217T160000Z
DCREATED:20191214T160022Z
UID:ATEvent-6f62732522a8440581ac42629a0aa522
SEQUENCE:0
LAST-MODIFIED:20191214T160303Z
SUMMARY:Consejo General
LOCATION:Casa Generalicia - Roma
PRIORITY:3
TRANSP:0
END:VEVENT
END:VCALENDAR
