BEGIN:VCALENDAR
PRODID:-//AT Content Types//AT Event//EN
VERSION:2.0
METHOD:PUBLISH
BEGIN:VEVENT
DTSTAMP:20260425T020718Z
CREATED:20181227T112443Z
UID:ATEvent-935f97d05269434da7555d284a283b50
LAST-MODIFIED:20181227T112633Z
SUMMARY:Consejo General
DTSTART:20190605T070000Z
DTEND:20190606T150000Z
LOCATION:Roma (Casa General)
CLASS:PUBLIC
END:VEVENT
END:VCALENDAR
