BEGIN:VCALENDAR
PRODID:-//AT Content Types//AT Event//EN
VERSION:2.0
METHOD:PUBLISH
BEGIN:VEVENT
DTSTAMP:20260424T053655Z
CREATED:20181227T112150Z
UID:ATEvent-00ff020ec0384929a269c7a68dee8d1a
LAST-MODIFIED:20181227T112343Z
SUMMARY:Consejo General
DTSTART:20190403T070000Z
DTEND:20190404T150000Z
LOCATION:Roma (Casa General)
CLASS:PUBLIC
END:VEVENT
END:VCALENDAR
