BEGIN:VCALENDAR
PRODID:-//AT Content Types//AT Event//EN
VERSION:1.0
BEGIN:VEVENT
DTSTART:20170724T070000Z
DTEND:20170729T150000Z
DCREATED:20170608T121012Z
UID:ATEvent-df488e9a37a14afb805dff34d4db359b
SEQUENCE:0
LAST-MODIFIED:20170608T121321Z
SUMMARY:Consejo General
LOCATION:Betharram (Francia)
PRIORITY:3
TRANSP:0
END:VEVENT
END:VCALENDAR
