BEGIN:VCALENDAR
PRODID:-//AT Content Types//AT Event//EN
VERSION:2.0
METHOD:PUBLISH
BEGIN:VEVENT
DTSTAMP:20260425T232705Z
CREATED:20190227T133511Z
UID:ATEvent-37feb7ed73d043598fb63ad107c0a6b0
LAST-MODIFIED:20190227T133742Z
SUMMARY:Consejo de Vicariato de Inglaterra
DTSTART:20190308T133000Z
DTEND:20190308T180000Z
LOCATION:Great Barr
CLASS:PUBLIC
END:VEVENT
END:VCALENDAR
