BEGIN:VCALENDAR
PRODID:-//AT Content Types//AT Event//EN
VERSION:2.0
METHOD:PUBLISH
BEGIN:VEVENT
DTSTAMP:20260424T224618Z
CREATED:20230117T111241Z
UID:ATEvent-49c12be864da413c83c66ab5a8f6d6cf
LAST-MODIFIED:20230117T111616Z
SUMMARY:Consejo de Congregación
DTSTART:20230220T080000Z
DTEND:20230225T170000Z
LOCATION:Roma - Casa General
CLASS:PUBLIC
END:VEVENT
END:VCALENDAR
