BEGIN:VCALENDAR
PRODID:-//AT Content Types//AT Event//EN
VERSION:1.0
BEGIN:VEVENT
DTSTART:20201128T123000Z
DTEND:20201128T153000Z
DCREATED:20201113T135813Z
UID:ATEvent-3d7bd3b9d41f415f85965ea4515a4469
SEQUENCE:0
LAST-MODIFIED:20201113T140356Z
SUMMARY:Consejo de Congregación
LOCATION:En videoconferencia
PRIORITY:3
TRANSP:0
END:VEVENT
END:VCALENDAR
