BEGIN:VCALENDAR
PRODID:-//AT Content Types//AT Event//EN
VERSION:2.0
METHOD:PUBLISH
BEGIN:VEVENT
DTSTAMP:20260425T225245Z
CREATED:20201113T135240Z
UID:ATEvent-16acd752357440f4ba13b3d6e652f609
LAST-MODIFIED:20201113T135646Z
SUMMARY:Consejo de Congregación
DTSTART:20201124T123000Z
DTEND:20201124T153000Z
LOCATION:En videoconferencia
CLASS:PUBLIC
END:VEVENT
END:VCALENDAR
