BEGIN:VCALENDAR
PRODID:-//AT Content Types//AT Event//EN
VERSION:2.0
METHOD:PUBLISH
BEGIN:VEVENT
DTSTAMP:20260424T224615Z
CREATED:20201113T134721Z
UID:ATEvent-7931807febf44278aef053a6da8f1f55
LAST-MODIFIED:20201113T135107Z
SUMMARY:Consejo de Congregación
DTSTART:20201123T123000Z
DTEND:20201123T153000Z
LOCATION:En videoconferencia
CLASS:PUBLIC
END:VEVENT
END:VCALENDAR
