BEGIN:VCALENDAR
PRODID:-//AT Content Types//AT Event//EN
VERSION:2.0
METHOD:PUBLISH
BEGIN:VEVENT
DTSTAMP:20260424T224617Z
CREATED:20190914T065800Z
UID:ATEvent-2131b5a90a6b41ccb98a8dac626e2ac3
LAST-MODIFIED:20240829T081909Z
SUMMARY:Reunión preparatoria del Consejo de Congregación
DTSTART:20240926T123000Z
DTEND:20240926T143000Z
LOCATION:Videoconferencia
CLASS:PUBLIC
END:VEVENT
END:VCALENDAR
