BEGIN:VCALENDAR
PRODID:-//AT Content Types//AT Event//EN
VERSION:2.0
METHOD:PUBLISH
BEGIN:VEVENT
DTSTAMP:20260425T232705Z
CREATED:20181105T091401Z
UID:ATEvent-941d59ba3521445bb61b57a6e575a331
LAST-MODIFIED:20181105T091711Z
SUMMARY:Consejo de Congregación
DTSTART:20181105T073000Z
DTEND:20181110T171500Z
LOCATION:Roma Casa Generalicia
CLASS:PUBLIC
END:VEVENT
END:VCALENDAR
