BEGIN:VCALENDAR
PRODID:-//AT Content Types//AT Event//EN
VERSION:2.0
METHOD:PUBLISH
BEGIN:VEVENT
DTSTAMP:20260419T230539Z
CREATED:20220727T072008Z
UID:ATEvent-bd0f1deb271c47359af30edc36a09e2c
LAST-MODIFIED:20220727T072332Z
SUMMARY:Capítulo Regional de la Región Santa María de Jesús Crucificado
DTSTART:20230123T080000Z
DTEND:20230127T160000Z
LOCATION:Tailandia - Chiang Mai
CLASS:PUBLIC
END:VEVENT
END:VCALENDAR
