BEGIN:VCALENDAR
PRODID:-//AT Content Types//AT Event//EN
VERSION:2.0
METHOD:PUBLISH
BEGIN:VEVENT
DTSTAMP:20260424T230921Z
CREATED:20191004T121757Z
UID:ATEvent-72bb891260f4415384ca090c026aa332
LAST-MODIFIED:20241029T104748Z
SUMMARY:Visita canónica en el Vicariato de la República Centroafricana
DTSTART:20241030T160000Z
DTEND:20241115T170000Z
LOCATION:Bangui - Bouar - Niem
CLASS:PUBLIC
END:VEVENT
END:VCALENDAR
