BEGIN:VCALENDAR
PRODID:-//AT Content Types//AT Event//EN
VERSION:2.0
METHOD:PUBLISH
BEGIN:VEVENT
DTSTAMP:20260426T032416Z
CREATED:20200211T093751Z
UID:ATEvent-a97102bcc6054c8a8ce29340e490a29e
LAST-MODIFIED:20200211T094144Z
SUMMARY:Asamblea del Vicariato de Inglaterra
DTSTART:20200302T010000Z
DTEND:20200304T170000Z
LOCATION:Shalowford House in Stone (Inghilterra)
CLASS:PUBLIC
END:VEVENT
END:VCALENDAR
