BEGIN:VCALENDAR
PRODID:-//AT Content Types//AT Event//EN
VERSION:2.0
METHOD:PUBLISH
BEGIN:VEVENT
DTSTAMP:20260425T002157Z
CREATED:20200717T064517Z
UID:ATEvent-be6ff9dea5d94537aa98a91d0d69a451
LAST-MODIFIED:20200717T065120Z
SUMMARY:Asamblea del Vicariato de Francia-España
DTSTART:20200727T123000Z
DTEND:20200727T164500Z
LOCATION:Betharram
CLASS:PUBLIC
END:VEVENT
END:VCALENDAR
