BEGIN:VCALENDAR
PRODID:-//AT Content Types//AT Event//EN
VERSION:1.0
BEGIN:VEVENT
DTSTART:20160510T070000Z
DTEND:20160510T150000Z
DCREATED:20160330T142221Z
UID:ATEvent-485e00a4441845858db7e44ab1bc7e67
SEQUENCE:0
LAST-MODIFIED:20160330T142503Z
SUMMARY:Asamblea del Vicariato
PRIORITY:3
TRANSP:0
END:VEVENT
END:VCALENDAR
