BEGIN:VCALENDAR
PRODID:-//AT Content Types//AT Event//EN
VERSION:1.0
BEGIN:VEVENT
DTSTART:20160317T080000Z
DTEND:20160317T163000Z
DCREATED:20160312T113134Z
UID:ATEvent-5086778440bf4918bfe131825e88f0c2
SEQUENCE:0
LAST-MODIFIED:20160312T113553Z
SUMMARY:Asamblea del Vicariato
LOCATION:Bétharram
PRIORITY:3
TRANSP:0
END:VEVENT
END:VCALENDAR
