BEGIN:VCALENDAR
PRODID:-//AT Content Types//AT Event//EN
VERSION:2.0
METHOD:PUBLISH
BEGIN:VEVENT
DTSTAMP:20260424T225408Z
CREATED:20190227T133511Z
UID:ATEvent-24db2935029d4ee1a9be1e15966c01eb
LAST-MODIFIED:20190227T133742Z
SUMMARY:Vicariate Council of English Vicariate
DTSTART:20190308T133000Z
DTEND:20190308T180000Z
LOCATION:Holy Name - Great Barr
CLASS:PUBLIC
END:VEVENT
END:VCALENDAR
