BEGIN:VCALENDAR
PRODID:-//AT Content Types//AT Event//EN
VERSION:2.0
METHOD:PUBLISH
BEGIN:VEVENT
DTSTAMP:20260425T024720Z
CREATED:20200211T093751Z
UID:ATEvent-9283b5c5523d4708b86107c4c2e50d69
LAST-MODIFIED:20200211T094144Z
SUMMARY:Vicariate assembly in England
DTSTART:20200302T010000Z
DTEND:20200304T170000Z
LOCATION:Shalowford House in Stone (England)
CLASS:PUBLIC
END:VEVENT
END:VCALENDAR
