BEGIN:VCALENDAR
PRODID:-//AT Content Types//AT Event//EN
VERSION:2.0
METHOD:PUBLISH
BEGIN:VEVENT
DTSTAMP:20260421T213823Z
CREATED:20190513T095619Z
UID:ATEvent-c436f2e370424871a3af831256d24c07
LAST-MODIFIED:20190513T100921Z
SUMMARY:The way of St Michael
DTSTART:20190805T070000Z
DTEND:20190812T170000Z
DESCRIPTION:Young Italians discover the places of life of St Michael G
 aricoïts.
LOCATION:Betharram - Ibarre
CLASS:PUBLIC
END:VEVENT
END:VCALENDAR
