BEGIN:VCALENDAR
PRODID:-//AT Content Types//AT Event//EN
VERSION:2.0
METHOD:PUBLISH
BEGIN:VEVENT
DTSTAMP:20260422T035956Z
CREATED:20200717T065445Z
UID:ATEvent-64d3b29cbd9b435fb3f92544af21910f
LAST-MODIFIED:20200717T070934Z
SUMMARY:Solemnity of O. L. of Betharram and perpetual profession of Br. Landry.
DTSTART:20200728T070000Z
DTEND:20200728T150000Z
LOCATION:Betharram
CLASS:PUBLIC
END:VEVENT
END:VCALENDAR
