BEGIN:VCALENDAR
PRODID:-//AT Content Types//AT Event//EN
VERSION:2.0
METHOD:PUBLISH
BEGIN:VEVENT
DTSTAMP:20260419T134145Z
CREATED:20190720T071502Z
UID:ATEvent-2cf8e7e8986240dab42f8c7380d0123b
LAST-MODIFIED:20190720T071739Z
SUMMARY:Regional Council of the St Michel Garicoïts Region
DTSTART:20191022T070000Z
DTEND:20191025T150000Z
LOCATION:Betharram
CLASS:PUBLIC
END:VEVENT
END:VCALENDAR
