BEGIN:VCALENDAR
PRODID:-//AT Content Types//AT Event//EN
VERSION:2.0
METHOD:PUBLISH
BEGIN:VEVENT
DTSTAMP:20260421T051016Z
CREATED:20201113T141114Z
UID:ATEvent-99956480fa8843b7905b20e404834978
LAST-MODIFIED:20240829T075148Z
SUMMARY:Regional Council of the "St Michael Garicoïts" Region
DTSTART:20240923T070000Z
DTEND:20240928T140000Z
LOCATION:Rome - Generalate
CLASS:PUBLIC
END:VEVENT
END:VCALENDAR
