BEGIN:VCALENDAR
PRODID:-//AT Content Types//AT Event//EN
VERSION:1.0
BEGIN:VEVENT
DTSTART:20201113T140000Z
DTEND:20201113T180000Z
DCREATED:20201113T140639Z
UID:ATEvent-f97b1673c63849799e58b4324632a21f
SEQUENCE:0
LAST-MODIFIED:20201113T140946Z
SUMMARY:Regional Council
LOCATION:In videoconference
PRIORITY:3
TRANSP:0
END:VEVENT
END:VCALENDAR
