BEGIN:VCALENDAR
PRODID:-//AT Content Types//AT Event//EN
VERSION:2.0
METHOD:PUBLISH
BEGIN:VEVENT
DTSTAMP:20260425T025135Z
CREATED:20220727T072008Z
UID:ATEvent-760427c339e94bccb8570d24ad903094
LAST-MODIFIED:20220727T072332Z
SUMMARY:Regional Chapter of the Region Saint Mary of Jesus Crucified
DTSTART:20230123T080000Z
DTEND:20230127T160000Z
LOCATION:Thailand - Chiang Mai
CLASS:PUBLIC
END:VEVENT
END:VCALENDAR
