BEGIN:VCALENDAR
PRODID:-//AT Content Types//AT Event//EN
VERSION:2.0
METHOD:PUBLISH
BEGIN:VEVENT
DTSTAMP:20260425T023456Z
CREATED:20210920T103751Z
UID:ATEvent-cba7375d76e6422a87ff89fe3c9168a8
LAST-MODIFIED:20210920T104306Z
SUMMARY:Priestly ordinations in the Vicariate of CoastThailand
DTSTART:20211016T070000Z
DTEND:20211016T100000Z
LOCATION:Cathedral of Chiang Mai
CLASS:PUBLIC
END:VEVENT
END:VCALENDAR
