BEGIN:VCALENDAR
PRODID:-//AT Content Types//AT Event//EN
VERSION:1.0
BEGIN:VEVENT
DTSTART:20240908T080000Z
DTEND:20240908T190000Z
DCREATED:20190625T135014Z
UID:ATEvent-479448eeeaa9405d905b7612da000435
SEQUENCE:0
LAST-MODIFIED:20240823T085806Z
SUMMARY:Priestly ordinations in Ivory Coast
LOCATION:Adiapodoumé
PRIORITY:3
TRANSP:0
END:VEVENT
END:VCALENDAR
