BEGIN:VCALENDAR
PRODID:-//AT Content Types//AT Event//EN
VERSION:1.0
BEGIN:VEVENT
DTSTART:20190921T170000Z
DTEND:20190921T190000Z
DCREATED:20190914T070942Z
UID:ATEvent-a284491e29854f019632fcb3fc5a85bb
SEQUENCE:0
LAST-MODIFIED:20190914T071836Z
SUMMARY:Priestly ordination in Argentina.
LOCATION:Barracas (Argentina)
PRIORITY:3
TRANSP:0
END:VEVENT
END:VCALENDAR
