BEGIN:VCALENDAR
PRODID:-//AT Content Types//AT Event//EN
VERSION:2.0
METHOD:PUBLISH
BEGIN:VEVENT
DTSTAMP:20260425T024720Z
CREATED:20190706T072717Z
UID:ATEvent-8c29866723544c0fbfb90284eb74447c
LAST-MODIFIED:20240116T092711Z
SUMMARY:Priestly ordination of Br. Stephen R. SCJ
DTSTART:20240118T083000Z
DTEND:20240118T110000Z
LOCATION:India
CLASS:PUBLIC
END:VEVENT
END:VCALENDAR
