BEGIN:VCALENDAR
PRODID:-//AT Content Types//AT Event//EN
VERSION:2.0
METHOD:PUBLISH
BEGIN:VEVENT
DTSTAMP:20260423T202616Z
CREATED:20210518T061311Z
UID:ATEvent-f34040c70cfa4289a692fa0fa853ab60
LAST-MODIFIED:20240724T063015Z
SUMMARY:Perpetual profession of Br. Kouamé Brou Aurélien Émeric SCJ and Br. Bandama Salomon SCJ
DTSTART:20240728T090000Z
DTEND:20240728T110000Z
LOCATION:Bétharram
CLASS:PUBLIC
END:VEVENT
END:VCALENDAR
