BEGIN:VCALENDAR
PRODID:-//AT Content Types//AT Event//EN
VERSION:1.0
BEGIN:VEVENT
DTSTART:20210917T070000Z
DTEND:20210917T100000Z
DCREATED:20210914T100048Z
UID:ATEvent-b39502df16bf4e3e8e1257363c8c9a17
SEQUENCE:0
LAST-MODIFIED:20210914T100942Z
SUMMARY:Meetings of the General Council with the Regional Superiors
LOCATION:Videoconferencing - ZOOM platform
PRIORITY:3
TRANSP:0
END:VEVENT
END:VCALENDAR
