BEGIN:VCALENDAR
PRODID:-//AT Content Types//AT Event//EN
VERSION:1.0
BEGIN:VEVENT
DTSTART:20210215T110000Z
DTEND:20210216T150000Z
DCREATED:20210125T085942Z
UID:ATEvent-b8af9644cc1f408bbc4139a8c95483c9
SEQUENCE:0
LAST-MODIFIED:20210125T090209Z
SUMMARY:Meeting of the Betharramite Formation Service
PRIORITY:3
TRANSP:0
END:VEVENT
END:VCALENDAR
