BEGIN:VCALENDAR
PRODID:-//AT Content Types//AT Event//EN
VERSION:2.0
METHOD:PUBLISH
BEGIN:VEVENT
DTSTAMP:20260421T051017Z
CREATED:20240527T124840Z
UID:ATEvent-49a852623a0d427e960fefa8de610472
LAST-MODIFIED:20240527T125110Z
SUMMARY:International training session for Formators
DTSTART:20240701T070000Z
DTEND:20240707T150000Z
LOCATION:Bétharram
CLASS:PUBLIC
END:VEVENT
END:VCALENDAR
