BEGIN:VCALENDAR
PRODID:-//AT Content Types//AT Event//EN
VERSION:2.0
METHOD:PUBLISH
BEGIN:VEVENT
DTSTAMP:20260421T182102Z
CREATED:20191214T160022Z
UID:ATEvent-d3879e737bcf440db23db83aa369663e
LAST-MODIFIED:20191214T160303Z
SUMMARY:General Council
DTSTART:20191216T080000Z
DTEND:20191217T160000Z
LOCATION:General House - Rome
CLASS:PUBLIC
END:VEVENT
END:VCALENDAR
