BEGIN:VCALENDAR
PRODID:-//AT Content Types//AT Event//EN
VERSION:1.0
BEGIN:VEVENT
DTSTART:20190708T060000Z
DTEND:20190713T110000Z
DCREATED:20190708T134404Z
UID:ATEvent-5cb35a4a31fb4b1a8884bd719852f819
SEQUENCE:0
LAST-MODIFIED:20190708T134652Z
SUMMARY:ELAB
LOCATION:San Bernardino - Paraguay
PRIORITY:3
TRANSP:0
END:VEVENT
END:VCALENDAR
