BEGIN:VCALENDAR
PRODID:-//AT Content Types//AT Event//EN
VERSION:1.0
BEGIN:VEVENT
DTSTART:20160516T060000Z
DTEND:20160516T083000Z
DCREATED:20160502T083339Z
UID:ATEvent-724c41b55acb40749dfce6bc7ced5248
SEQUENCE:0
LAST-MODIFIED:20160502T083928Z
SUMMARY:Diaconate Ordinations in India
LOCATION:Our Lady of Betharram Chapel\, Shobhana Shaakha\, Bosco Nagar\, and Bangalore
PRIORITY:3
TRANSP:0
END:VEVENT
END:VCALENDAR
