BEGIN:VCALENDAR
PRODID:-//AT Content Types//AT Event//EN
VERSION:1.0
BEGIN:VEVENT
DTSTART:20210809T070000Z
DTEND:20210809T150000Z
DCREATED:20201215T110136Z
UID:ATEvent-0a22150c1b0f4b69aaa40419fcdd42d3
SEQUENCE:0
LAST-MODIFIED:20250731T065444Z
SUMMARY:Diaconate ordination of Br. Anselm Prapas Chiwakitmankong and Br. Peter Do Van Hung
LOCATION:Lux Mundi Seminary\, Bangkok (Thailand)
PRIORITY:3
TRANSP:0
END:VEVENT
END:VCALENDAR
