BEGIN:VCALENDAR
PRODID:-//AT Content Types//AT Event//EN
VERSION:2.0
METHOD:PUBLISH
BEGIN:VEVENT
DTSTAMP:20260421T070629Z
CREATED:20201215T100314Z
UID:ATEvent-1ecbb182c77c4748b9cde5cdea63f4cf
LAST-MODIFIED:20201215T105915Z
SUMMARY:Diaconate ordination of Br. Koffi Djéban Landry
DTSTART:20201227T093000Z
DTEND:20201227T163000Z
LOCATION:Parish Sainte-Thérèse - Pau
CLASS:PUBLIC
END:VEVENT
END:VCALENDAR
