BEGIN:VCALENDAR
PRODID:-//AT Content Types//AT Event//EN
VERSION:1.0
BEGIN:VEVENT
DTSTART:20230122T080000Z
DTEND:20230122T140000Z
DCREATED:20190706T073858Z
UID:ATEvent-430bbf0096e94445b60bff176e6be218
SEQUENCE:0
LAST-MODIFIED:20230122T110749Z
SUMMARY:Diaconal ordination
LOCATION:Betharram
PRIORITY:3
TRANSP:0
END:VEVENT
END:VCALENDAR
