BEGIN:VCALENDAR
PRODID:-//AT Content Types//AT Event//EN
VERSION:2.0
METHOD:PUBLISH
BEGIN:VEVENT
DTSTAMP:20260421T051007Z
CREATED:20250103T080148Z
UID:ATEvent-3d7ec4b55e6d4afe9421b059bc3e6fd7
LAST-MODIFIED:20250103T081240Z
SUMMARY:Diaconal Ordination
DTSTART:20250103T090000Z
DTEND:20250103T140000Z
LOCATION:The Holy Family Catholic Church\, Huay Bong
CLASS:PUBLIC
END:VEVENT
END:VCALENDAR
