BEGIN:VCALENDAR
PRODID:-//AT Content Types//AT Event//EN
VERSION:2.0
METHOD:PUBLISH
BEGIN:VEVENT
DTSTAMP:20260421T123054Z
CREATED:20201113T133927Z
UID:ATEvent-e2658d5194b449be9369d49fb6d90e81
LAST-MODIFIED:20201113T134258Z
SUMMARY:Council of the Congregation
DTSTART:20201118T123000Z
DTEND:20201121T153000Z
LOCATION:In videoconference
CLASS:PUBLIC
END:VEVENT
END:VCALENDAR
