BEGIN:VCALENDAR
PRODID:-//AT Content Types//AT Event//EN
VERSION:1.0
BEGIN:VEVENT
DTSTART:20201109T123000Z
DTEND:20201112T150000Z
DCREATED:20201107T110823Z
UID:ATEvent-cfcc7e8b56f242d4aea6ed375ecb89d5
SEQUENCE:0
LAST-MODIFIED:20201109T074751Z
SUMMARY:Council of the Congregation
LOCATION:In videoconference
PRIORITY:3
TRANSP:0
END:VEVENT
END:VCALENDAR
