BEGIN:VCALENDAR
PRODID:-//AT Content Types//AT Event//EN
VERSION:2.0
METHOD:PUBLISH
BEGIN:VEVENT
DTSTAMP:20260425T020715Z
CREATED:20211007T120645Z
UID:ATEvent-6ec09e3f521e48e9b27e536e3874dee0
LAST-MODIFIED:20211007T122035Z
SUMMARY:Council of the Congregation 2021
DTSTART:20211115T123000Z
DTEND:20211119T160000Z
LOCATION:Videoconferencing - ZOOM platform
CLASS:PUBLIC
END:VEVENT
END:VCALENDAR
