BEGIN:VCALENDAR
PRODID:-//AT Content Types//AT Event//EN
VERSION:1.0
BEGIN:VEVENT
DTSTART:20230220T080000Z
DTEND:20230225T170000Z
DCREATED:20230117T111241Z
UID:ATEvent-bfeb68236c1642d6ad6b715993b08798
SEQUENCE:0
LAST-MODIFIED:20230117T111616Z
SUMMARY:Council of Congregation
LOCATION:Rome - Generalate
PRIORITY:3
TRANSP:0
END:VEVENT
END:VCALENDAR
