BEGIN:VCALENDAR
PRODID:-//AT Content Types//AT Event//EN
VERSION:1.0
BEGIN:VEVENT
DTSTART:20220603T070000Z
DTEND:20220630T160000Z
DCREATED:20220601T082500Z
UID:ATEvent-96e9a0f7469c4e6eb8a1f759f506ce82
SEQUENCE:0
LAST-MODIFIED:20220602T101544Z
SUMMARY:Canonical visit to the Vicariate of Thailand and Vietnam
LOCATION:Thailandia and Vietnam
PRIORITY:3
TRANSP:0
END:VEVENT
END:VCALENDAR
