BEGIN:VCALENDAR
PRODID:-//AT Content Types//AT Event//EN
VERSION:2.0
METHOD:PUBLISH
BEGIN:VEVENT
DTSTAMP:20260424T115935Z
CREATED:20191004T121225Z
UID:ATEvent-539e10e2ecdf45358491fd80a9d5f52a
LAST-MODIFIED:20240327T075813Z
SUMMARY:Canonical visit to the Vicariate of Paraguay
DTSTART:20240426T070000Z
DTEND:20240518T190000Z
LOCATION:Paraguay
CLASS:PUBLIC
END:VEVENT
END:VCALENDAR
