BEGIN:VCALENDAR
PRODID:-//AT Content Types//AT Event//EN
VERSION:2.0
METHOD:PUBLISH
BEGIN:VEVENT
DTSTAMP:20260422T005517Z
CREATED:20200216T065420Z
UID:ATEvent-203855ace08c46c8827c44a1e1b5b249
LAST-MODIFIED:20200216T065721Z
SUMMARY:Canonical visit to the Vicariate of Italy
DTSTART:20200305T080000Z
DTEND:20200313T170000Z
CLASS:PUBLIC
END:VEVENT
END:VCALENDAR
